BEGIN:VCALENDAR
VERSION:2.0
PRODID:-//KARAOKESBAND - ECPv5.16.0//NONSGML v1.0//EN
CALSCALE:GREGORIAN
METHOD:PUBLISH
X-WR-CALNAME:KARAOKESBAND
X-ORIGINAL-URL:https://www.karaokesband.cat
X-WR-CALDESC:Eventos para KARAOKESBAND
BEGIN:VTIMEZONE
TZID:UTC
BEGIN:STANDARD
TZOFFSETFROM:+0000
TZOFFSETTO:+0000
TZNAME:UTC
DTSTART:20170101T000000
END:STANDARD
END:VTIMEZONE
BEGIN:VEVENT
DTSTART;VALUE=DATE:20170814
DTEND;VALUE=DATE:20170816
DTSTAMP:20260419T190741
CREATED:20170601T140848Z
LAST-MODIFIED:20170601T140848Z
UID:2080-1502683200-1502769599@www.karaokesband.cat
SUMMARY:BOSSOST
DESCRIPTION:KARAOKES BAND actuarà a Bossòst!\nEl 14 d’agost la població de la Vall d’Aran passarà una nit entretinguda amb karaoke en directe. Karaokes band portarà el seu show a l’alta muntanya i intentarà pujar la temperatura amb la resta de grups encara per confirmar.\nEn breu penjarem més informació i tots els detalls d’aquest festa. De moment pots seguir repassant el nostre repertori i estudiar per fer la millor actuació! També pots xafardejar una mica per conèixer millor a l’equip o passar l’estona mirant vídeos. \nCanteu amb responsabilitat! \nConeixes KARAOKES KIDS? El nou espectacle per a l’animació musical\, t’agradarà.
URL:https://www.karaokesband.cat/concert/bossost/
LOCATION:Bossost
ATTACH;FMTTYPE=image/jpeg:https://www.karaokesband.cat/wp-content/uploads/2017/05/KOB-GiraGo-LogoColor.jpg
END:VEVENT
END:VCALENDAR