BEGIN:VCALENDAR
VERSION:2.0
PRODID:-//KARAOKESBAND - ECPv5.16.0//NONSGML v1.0//EN
CALSCALE:GREGORIAN
METHOD:PUBLISH
X-WR-CALNAME:KARAOKESBAND
X-ORIGINAL-URL:https://www.karaokesband.cat
X-WR-CALDESC:Eventos para KARAOKESBAND
BEGIN:VTIMEZONE
TZID:UTC
BEGIN:STANDARD
TZOFFSETFROM:+0000
TZOFFSETTO:+0000
TZNAME:UTC
DTSTART:20170101T000000
END:STANDARD
END:VTIMEZONE
BEGIN:VEVENT
DTSTART;VALUE=DATE:20170304
DTEND;VALUE=DATE:20170306
DTSTAMP:20260419T200536
CREATED:20170116T121955Z
LAST-MODIFIED:20170116T121955Z
UID:1869-1488600000-1488686399@www.karaokesband.cat
SUMMARY:Carnaval - Sant Fruitós del Bages
DESCRIPTION:El carnaval no s’acaba. Tens disfressa?\nSi aquest 2017 encara no t’has pogut disfressar vine a Sant Fruitós del Bages a viure el Carnestoltes més divertit de Catalunya amb el concert de KARAOKES BAND KIDS a la tarda i KARAOKESBAND al vespre.\nKARAOKESBAND oferirà els seus dos formats més exitosos a Sant Fruitós del Bages. A la tarda podrem gaudir de l’actuació dels més petits amb el format KIDS i ballar i cantar amb les cançons de dibuixos\, de series i infantils. Arribada la nit començarà l’actuació de KARAOKESBAND amb el seu format més juvenil i que oferirà hores de música\, karaoke\, concursos i diversió fins que el cos aguanti.\nSerà la primera vegada que la formació de karaoke en directe porta el seu espectacle al poble de Sant Fruitós del Bages i s’espera que siguin un dia per recordar. Si tens ganes d’anar-te preparant una actuació entra aquí per saber les cançons disponibles. \nCanteu amb responsabilitat!
URL:https://www.karaokesband.cat/concert/carnaval-sant-fruitos-del-bages/
LOCATION:Sant Fruitós del Bages
CATEGORIES:Llista Concerts
END:VEVENT
END:VCALENDAR