BEGIN:VCALENDAR
VERSION:2.0
PRODID:-//KARAOKESBAND - ECPv5.16.0//NONSGML v1.0//EN
CALSCALE:GREGORIAN
METHOD:PUBLISH
X-WR-CALNAME:KARAOKESBAND
X-ORIGINAL-URL:https://www.karaokesband.cat
X-WR-CALDESC:Eventos para KARAOKESBAND
BEGIN:VTIMEZONE
TZID:UTC
BEGIN:STANDARD
TZOFFSETFROM:+0000
TZOFFSETTO:+0000
TZNAME:UTC
DTSTART:20170101T000000
END:STANDARD
END:VTIMEZONE
BEGIN:VEVENT
DTSTART;VALUE=DATE:20171229
DTEND;VALUE=DATE:20171231
DTSTAMP:20260419T203205
CREATED:20171228T113519Z
LAST-MODIFIED:20171228T113519Z
UID:2245-1514520000-1514606399@www.karaokesband.cat
SUMMARY:EL misteri Calaf
DESCRIPTION:EL MISTERI DE LES LLETRES!\nVine a descobrir el nou espectacle de KARAOKES KIDS pensat per als més petits. Un espectacle d’animació infantil que ens farà viatjar en el temps per salvar al futur. Resulta que l’abecedari va quedar desordenat i això ha provocat el caos. L’equip de KARAOKES KIDS buscarà herois que a través de la seva habilitat amb les lletres i la música siguin capaços de reordenar i arreglar aquest desgavell.\nPodràs convertir-te en heroi aquest 29 de desembre de 2017 al parc de nadal de Calaf a partir de les 18:00h. \nCanteu amb responsabilitat! \nConeixes KARAOKES KIDS? El nou espectacle per a l’animació musical\, t’agradarà.\n 
URL:https://www.karaokesband.cat/concert/el-misteri-de-les-lletres/
LOCATION:Calaf
END:VEVENT
END:VCALENDAR