BEGIN:VCALENDAR
VERSION:2.0
PRODID:-//KARAOKESBAND - ECPv5.16.0//NONSGML v1.0//EN
CALSCALE:GREGORIAN
METHOD:PUBLISH
X-WR-CALNAME:KARAOKESBAND
X-ORIGINAL-URL:https://www.karaokesband.cat
X-WR-CALDESC:Eventos para KARAOKESBAND
BEGIN:VTIMEZONE
TZID:UTC
BEGIN:STANDARD
TZOFFSETFROM:+0000
TZOFFSETTO:+0000
TZNAME:UTC
DTSTART:20180101T000000
END:STANDARD
END:VTIMEZONE
BEGIN:VEVENT
DTSTART;VALUE=DATE:20181013
DTEND;VALUE=DATE:20181015
DTSTAMP:20260419T135834
CREATED:20180928T120922Z
LAST-MODIFIED:20180928T120922Z
UID:2534-1539403200-1539489599@www.karaokesband.cat
SUMMARY:Festa major 2018 Santa Maria de Palautordera
DESCRIPTION:Santa Maria de Palautordera celebra la festa major amb KARAOKES BAND el 13 d’octubre de 2018!\nLa població de Santa Maria de Palautordera celebrará la festa major amb un concert de KaraokesBand i Smoking Souls a les barrakes. El dissabte 13 d’octubre\, a partir de mitjanit el joves podran ser els protagonistes de l’escenari amb l’actuació de KaraokesBand.\nEn breu penjarem més informació i tots els detalls d’aquest festa. De moment pots seguir repassant el nostre repertori i estudiar per fer la millor actuació! També pots xafardejar una mica per conèixer millor a l’equip o passar l’estona mirant vídeos. \nCanteu amb responsabilitat!
URL:https://www.karaokesband.cat/concert/festa-major-2018-santa-maria-de-palautordera/
LOCATION:Santa Maria de Palautordera
END:VEVENT
END:VCALENDAR