BEGIN:VCALENDAR
VERSION:2.0
PRODID:-//KARAOKESBAND - ECPv5.16.0//NONSGML v1.0//EN
CALSCALE:GREGORIAN
METHOD:PUBLISH
X-WR-CALNAME:KARAOKESBAND
X-ORIGINAL-URL:https://www.karaokesband.cat
X-WR-CALDESC:Eventos para KARAOKESBAND
BEGIN:VTIMEZONE
TZID:UTC
BEGIN:STANDARD
TZOFFSETFROM:+0000
TZOFFSETTO:+0000
TZNAME:UTC
DTSTART:20160101T000000
END:STANDARD
END:VTIMEZONE
BEGIN:VEVENT
DTSTART;TZID=UTC:20161207T230000
DTEND;TZID=UTC:20161207T230000
DTSTAMP:20260419T172526
CREATED:20161206T163537Z
LAST-MODIFIED:20161206T164428Z
UID:1731-1481151600-1481151600@www.karaokesband.cat
SUMMARY:FESTA MAJOR D'HIVERN - CASTELLDEFELS
DESCRIPTION:A CASTELLDEFELS FAN FESTA EL DIMECRES!\nDimecres 7 de desembre es celebra la Festa Major d’Hivern de Castelldefels i l’Espai Jove de la ciutat a organitzat un dia ple d’activitats i concerts.\nAl vespre podràs participar al mític correbars acompanyat per la txaranga “Toquikitoki” i demanar la beguda o aliment que més t’agradi en cada un dels establiments del recorregut. Seguidament\, KARAOKESBAND oferirà dues hores de música i karaoke a l’espai jove (plaça de l’estació) de Castelldefels. \nNo tinguis por pel fred que diuen que tindrem una sensació tèrmica calenteta\, calenteta. Posat una jaqueteta i surt de casa sense por!
URL:https://www.karaokesband.cat/concert/festa-major-dhivern-castelldefels/
LOCATION:ESPAI JOVE\, Castelldefels
CATEGORIES:Próxim concert
ATTACH;FMTTYPE=image/jpeg:https://www.karaokesband.cat/wp-content/uploads/2016/12/Castelldefels.jpg
END:VEVENT
END:VCALENDAR