BEGIN:VCALENDAR
VERSION:2.0
PRODID:-//KARAOKESBAND - ECPv5.16.0//NONSGML v1.0//EN
CALSCALE:GREGORIAN
METHOD:PUBLISH
X-WR-CALNAME:KARAOKESBAND
X-ORIGINAL-URL:https://www.karaokesband.cat
X-WR-CALDESC:Eventos para KARAOKESBAND
BEGIN:VTIMEZONE
TZID:UTC
BEGIN:STANDARD
TZOFFSETFROM:+0000
TZOFFSETTO:+0000
TZNAME:UTC
DTSTART:20170101T000000
END:STANDARD
END:VTIMEZONE
BEGIN:VEVENT
DTSTART;VALUE=DATE:20170930
DTEND;VALUE=DATE:20171002
DTSTAMP:20260419T182147
CREATED:20170831T200609Z
LAST-MODIFIED:20170831T200609Z
UID:2137-1506744000-1506830399@www.karaokesband.cat
SUMMARY:Festa privada a Juneda
DESCRIPTION:Ho sentim\, no et podem oferir més informació.\nAquest és un concert privat a Juneda per als organitzadors de l’esdeveniment. Pot ser el clàssic sopar d’empresa\, una festa d’aniversari molt “currada”\, un casament\, un dinar o el que et vingui de gust imaginar. Al cap i a la fi\, una festa privada. \nNo et podem donar més informació com podràs comprendre. Esperem veure’t sovint en la resta de concerts oberts a tot el públic. \nPots veure la llista dels pròxims concerts clicant aquí.
URL:https://www.karaokesband.cat/concert/festa-privada-juneda/
LOCATION:Juneda
ATTACH;FMTTYPE=image/jpeg:https://www.karaokesband.cat/wp-content/uploads/2017/02/koblasala9.jpg
END:VEVENT
END:VCALENDAR