BEGIN:VCALENDAR
VERSION:2.0
PRODID:-//KARAOKESBAND - ECPv5.16.0//NONSGML v1.0//EN
CALSCALE:GREGORIAN
METHOD:PUBLISH
X-WR-CALNAME:KARAOKESBAND
X-ORIGINAL-URL:https://www.karaokesband.cat
X-WR-CALDESC:Eventos para KARAOKESBAND
BEGIN:VTIMEZONE
TZID:UTC
BEGIN:STANDARD
TZOFFSETFROM:+0000
TZOFFSETTO:+0000
TZNAME:UTC
DTSTART:20170101T000000
END:STANDARD
END:VTIMEZONE
BEGIN:VEVENT
DTSTART;VALUE=DATE:20170816
DTEND;VALUE=DATE:20170818
DTSTAMP:20260419T181417
CREATED:20170612T110525Z
LAST-MODIFIED:20170612T110525Z
UID:2088-1502856000-1502942399@www.karaokesband.cat
SUMMARY:FESTES DE GRÀCIA
DESCRIPTION:KARAOKES BAND actuarà un any més a les Festes de Gràcia!\nEl 2017 el carrer Tordera torna a celebrar les Festes de Gràcia amb un concert de karaoke en directe. Després de l’èxit de l’any passat el carrer tornar a comptar amb l’actuació de Karaokes Band i tornaràn a competir pel carrer més ben decorat.\nEn breu penjarem més informació i tots els detalls d’aquest festa. De moment pots seguir repassant el nostre repertori i estudiar per fer la millor actuació! També pots xafardejar una mica per conèixer millor a l’equip o passar l’estona mirant vídeos. \nCanteu amb responsabilitat! \nConeixes KARAOKES KIDS? El nou espectacle per a l’animació musical\, t’agradarà.
URL:https://www.karaokesband.cat/concert/festes-de-gracia/
LOCATION:Gràcia
ATTACH;FMTTYPE=image/jpeg:https://www.karaokesband.cat/wp-content/uploads/2017/05/KOB-GiraGo-LogoColor.jpg
END:VEVENT
END:VCALENDAR