BEGIN:VCALENDAR
VERSION:2.0
PRODID:-//KARAOKESBAND - ECPv5.16.0//NONSGML v1.0//EN
CALSCALE:GREGORIAN
METHOD:PUBLISH
X-WR-CALNAME:KARAOKESBAND
X-ORIGINAL-URL:https://www.karaokesband.cat
X-WR-CALDESC:Eventos para KARAOKESBAND
BEGIN:VTIMEZONE
TZID:UTC
BEGIN:STANDARD
TZOFFSETFROM:+0000
TZOFFSETTO:+0000
TZNAME:UTC
DTSTART:20170101T000000
END:STANDARD
END:VTIMEZONE
BEGIN:VEVENT
DTSTART;TZID=UTC:20170422T000000
DTEND;TZID=UTC:20170422T140000
DTSTAMP:20260419T182406
CREATED:20170116T125008Z
LAST-MODIFIED:20170405T165302Z
UID:1872-1492819200-1492869600@www.karaokesband.cat
SUMMARY:Festival Closcamoll - Tárrega
DESCRIPTION:ELS PETITS SERAN ELS PROTAGONISTES DEL CLOSCAMOLL 2017.\nEl 22 d’abril de 2017 la ciutat de Tárrega s’omple de música i nens per celebrar el festival.\nKARAOKESBAND tindrà l’oportunitat de actuar amb el format KIDS en un dels festivals per a la canalla amb més projecció de Catalunya. Lo Closcamoll és un festival on han passat grups com REGGAE PER XICS\, PEPET I MARIETA o JORDI TONIETTI. Enguany s’espera que sobrepassin els 2000 assistents i comptarà amb la presencia de més i millors grups com HEAVY PER XICS o THE PENGUINS. \nSi tens ganes d’anar-te preparant una actuació entra aquí per saber les cançons disponibles. \nCanteu amb responsabilitat!
URL:https://www.karaokesband.cat/concert/festival-closcamoll-tarrega/
LOCATION:Tárrega
CATEGORIES:Llista Concerts
ATTACH;FMTTYPE=image/jpeg:https://www.karaokesband.cat/wp-content/uploads/2017/01/closcamoll2.jpg
END:VEVENT
END:VCALENDAR