BEGIN:VCALENDAR
VERSION:2.0
PRODID:-//KARAOKESBAND - ECPv5.16.0//NONSGML v1.0//EN
CALSCALE:GREGORIAN
METHOD:PUBLISH
X-WR-CALNAME:KARAOKESBAND
X-ORIGINAL-URL:https://www.karaokesband.cat
X-WR-CALDESC:Eventos para KARAOKESBAND
BEGIN:VTIMEZONE
TZID:UTC
BEGIN:STANDARD
TZOFFSETFROM:+0000
TZOFFSETTO:+0000
TZNAME:UTC
DTSTART:20220101T000000
END:STANDARD
END:VTIMEZONE
BEGIN:VEVENT
DTSTART;VALUE=DATE:20220604
DTEND;VALUE=DATE:20220606
DTSTAMP:20260419T151645
CREATED:20220516T134536Z
LAST-MODIFIED:20220516T134536Z
UID:2955-1654315200-1654401599@www.karaokesband.cat
SUMMARY:KARAOKES BAND - Vallbona d'Anoia
DESCRIPTION:El 4 de juny concert de festa major a Vallbona d’Anoia amb Karaokes Band i Skalari.
URL:https://www.karaokesband.cat/concert/karaokes-band-vallbona-danoia/
LOCATION:Vallbona d’Anoia\, Vallbona d'Anoia
ATTACH;FMTTYPE=image/jpeg:https://www.karaokesband.cat/wp-content/uploads/2022/05/KBAND_Promo22.jpg
END:VEVENT
END:VCALENDAR