BEGIN:VCALENDAR
VERSION:2.0
PRODID:-//KARAOKESBAND - ECPv5.16.0//NONSGML v1.0//EN
CALSCALE:GREGORIAN
METHOD:PUBLISH
X-WR-CALNAME:KARAOKESBAND
X-ORIGINAL-URL:https://www.karaokesband.cat
X-WR-CALDESC:Eventos para KARAOKESBAND
BEGIN:VTIMEZONE
TZID:UTC
BEGIN:STANDARD
TZOFFSETFROM:+0000
TZOFFSETTO:+0000
TZNAME:UTC
DTSTART:20190101T000000
END:STANDARD
END:VTIMEZONE
BEGIN:VEVENT
DTSTART;VALUE=DATE:20190803
DTEND;VALUE=DATE:20190805
DTSTAMP:20260419T120934
CREATED:20190710T104555Z
LAST-MODIFIED:20190710T104555Z
UID:2719-1564804800-1564891199@www.karaokesband.cat
SUMMARY:KARAOKES KIDS a La Llacuna
DESCRIPTION:KARAOKES KIDS aterra a La Llacuna per salvar el futur.\nEl 3 d’agost a la tarda a La Llacuna podràs descobrir el nou espectacle de KARAOKES KIDS pensat per als més petits. Un espectacle d’animació infantil que ens farà viatjar en el temps per salvar al futur. Resulta que l’abecedari va quedar desordenat i això ha provocat el caos. L’equip de KARAOKES KIDS buscarà herois que\, a través de la seva habilitat amb les lletres i la música\, siguin capaços de reordenar i arreglar aquest desgavell. \nConeixes KARAOKES KIDS? El nou espectacle musical per a l’animació infantil. T’agradarà.
URL:https://www.karaokesband.cat/concert/karaokes-kids-a-la-llacuna/
LOCATION:La Llacuna
END:VEVENT
END:VCALENDAR