BEGIN:VCALENDAR
VERSION:2.0
PRODID:-//KARAOKESBAND - ECPv5.16.0//NONSGML v1.0//EN
CALSCALE:GREGORIAN
METHOD:PUBLISH
X-WR-CALNAME:KARAOKESBAND
X-ORIGINAL-URL:https://www.karaokesband.cat
X-WR-CALDESC:Eventos para KARAOKESBAND
BEGIN:VTIMEZONE
TZID:UTC
BEGIN:STANDARD
TZOFFSETFROM:+0000
TZOFFSETTO:+0000
TZNAME:UTC
DTSTART:20230101T000000
END:STANDARD
END:VTIMEZONE
BEGIN:VEVENT
DTSTART;VALUE=DATE:20230401
DTEND;VALUE=DATE:20230403
DTSTAMP:20260420T110554
CREATED:20230318T095636Z
LAST-MODIFIED:20230318T095636Z
UID:3201-1680321600-1680407999@www.karaokesband.cat
SUMMARY:KARAOKES XS - COLLA CASTELLERA DE CORNELLÀ
DESCRIPTION:
URL:https://www.karaokesband.cat/concert/karaokes-xs-colla-castellera-de-cornella/
LOCATION:Cornellà
END:VEVENT
END:VCALENDAR