BEGIN:VCALENDAR
VERSION:2.0
PRODID:-//KARAOKESBAND - ECPv5.16.0//NONSGML v1.0//EN
CALSCALE:GREGORIAN
METHOD:PUBLISH
X-WR-CALNAME:KARAOKESBAND
X-ORIGINAL-URL:https://www.karaokesband.cat
X-WR-CALDESC:Eventos para KARAOKESBAND
BEGIN:VTIMEZONE
TZID:UTC
BEGIN:STANDARD
TZOFFSETFROM:+0000
TZOFFSETTO:+0000
TZNAME:UTC
DTSTART:20230101T000000
END:STANDARD
END:VTIMEZONE
BEGIN:VEVENT
DTSTART;VALUE=DATE:20230204
DTEND;VALUE=DATE:20230206
DTSTAMP:20260419T152804
CREATED:20220930T133443Z
LAST-MODIFIED:20230115T211038Z
UID:3147-1675483200-1675569599@www.karaokesband.cat
SUMMARY:KARAOKES XS - Festa privada
DESCRIPTION:
URL:https://www.karaokesband.cat/concert/karaokes-xs-festa-privada/
LOCATION:Igualada
ATTACH;FMTTYPE=image/png:https://www.karaokesband.cat/wp-content/uploads/2022/07/XS_05_-.png
END:VEVENT
END:VCALENDAR