BEGIN:VCALENDAR
VERSION:2.0
PRODID:-//KARAOKESBAND - ECPv5.16.0//NONSGML v1.0//EN
CALSCALE:GREGORIAN
METHOD:PUBLISH
X-WR-CALNAME:KARAOKESBAND
X-ORIGINAL-URL:https://www.karaokesband.cat
X-WR-CALDESC:Eventos para KARAOKESBAND
BEGIN:VTIMEZONE
TZID:UTC
BEGIN:STANDARD
TZOFFSETFROM:+0000
TZOFFSETTO:+0000
TZNAME:UTC
DTSTART:20190101T000000
END:STANDARD
END:VTIMEZONE
BEGIN:VEVENT
DTSTART;VALUE=DATE:20190802
DTEND;VALUE=DATE:20190804
DTSTAMP:20260419T121702
CREATED:20190710T104320Z
LAST-MODIFIED:20190710T104320Z
UID:2716-1564718400-1564804799@www.karaokesband.cat
SUMMARY:La Llacuna
DESCRIPTION:La Llacuna serà una festa amb l’actuació de KARAOKES BAND!\nLa Llacuna viu un any més la festa major i tornarà a comptar amb el concert de KARAOKES BAND. El dia 2 d’agost podràs pujar a cantar les teves cançons preferides a dalt d’un escenari espectacular. No t’ho pensis més i vine a mitjanit a cantar i ballar.\nEn el cartell d’aquesta festa trobaràs tota la informació de les activitats. No oblidis seguir repassant el nostre repertori i estudiar per fer la millor actuació! També pots xafardejar una mica per conèixer millor a l’equip o passar l’estona mirant vídeos. \nCanteu amb responsabilitat!
URL:https://www.karaokesband.cat/concert/la-llacuna/
LOCATION:La Llacuna
END:VEVENT
END:VCALENDAR