BEGIN:VCALENDAR
VERSION:2.0
PRODID:-//KARAOKESBAND - ECPv5.16.0//NONSGML v1.0//EN
CALSCALE:GREGORIAN
METHOD:PUBLISH
X-WR-CALNAME:KARAOKESBAND
X-ORIGINAL-URL:https://www.karaokesband.cat
X-WR-CALDESC:Eventos para KARAOKESBAND
BEGIN:VTIMEZONE
TZID:UTC
BEGIN:STANDARD
TZOFFSETFROM:+0000
TZOFFSETTO:+0000
TZNAME:UTC
DTSTART:20170101T000000
END:STANDARD
END:VTIMEZONE
BEGIN:VEVENT
DTSTART;VALUE=DATE:20170603
DTEND;VALUE=DATE:20170605
DTSTAMP:20260419T190615
CREATED:20170424T070708Z
LAST-MODIFIED:20170531T150913Z
UID:1995-1496462400-1496548799@www.karaokesband.cat
SUMMARY:LA POBLA DE LILLET
DESCRIPTION:KARAOKES BAND actua a La Pobla de Lillet el 3 de juny de 2017!\nLa població celebrarà la Festa Major de Cinquagesma amb un concert de karaoke en directe. A partir de les 23:30h podreu gaudir de 2h 30′ d’espectacle i karaoke sense parar.\nCom ja sabeu\, teniu disponible el nostre repertori entrant aquí d’aquesta manera podreu venir ben estudiats.
URL:https://www.karaokesband.cat/concert/la-pobla-lillet/
LOCATION:La Pobla de Lillet
ATTACH;FMTTYPE=image/jpeg:https://www.karaokesband.cat/wp-content/uploads/2017/05/batmanKOB.jpg
END:VEVENT
END:VCALENDAR