BEGIN:VCALENDAR
VERSION:2.0
PRODID:-//KARAOKESBAND - ECPv5.16.0//NONSGML v1.0//EN
CALSCALE:GREGORIAN
METHOD:PUBLISH
X-WR-CALNAME:KARAOKESBAND
X-ORIGINAL-URL:https://www.karaokesband.cat
X-WR-CALDESC:Eventos para KARAOKESBAND
BEGIN:VTIMEZONE
TZID:UTC
BEGIN:STANDARD
TZOFFSETFROM:+0000
TZOFFSETTO:+0000
TZNAME:UTC
DTSTART:20190101T000000
END:STANDARD
END:VTIMEZONE
BEGIN:VEVENT
DTSTART;VALUE=DATE:20190823
DTEND;VALUE=DATE:20190825
DTSTAMP:20260419T173040
CREATED:20190729T125741Z
LAST-MODIFIED:20190729T125741Z
UID:2736-1566532800-1566619199@www.karaokesband.cat
SUMMARY:Roda de Berà
DESCRIPTION:Roda de Berà serà una festa amb l’actuació de KARAOKES BAND!\nRoda de Berà viu un any més la festa major i tornarà a comptar amb el concert de KARAOKES BAND. El dia 10 d’agost podràs pujar a cantar les teves cançons preferides a dalt d’un escenari espectacular. No t’ho pensis més i vine a mitjanit a cantar i ballar.\nEn el cartell d’aquesta festa trobaràs tota la informació de les activitats. No oblidis seguir repassant el nostre repertori i estudiar per fer la millor actuació! També pots xafardejar una mica per conèixer millor a l’equip o passar l’estona mirant vídeos. \nCanteu amb responsabilitat!
URL:https://www.karaokesband.cat/concert/roda-de-bera/
LOCATION:Roda de Berà
ATTACH;FMTTYPE=image/jpeg:https://www.karaokesband.cat/wp-content/uploads/2017/05/KOB-GiraGo-LogoColor.jpg
END:VEVENT
END:VCALENDAR