BEGIN:VCALENDAR
VERSION:2.0
PRODID:-//KARAOKESBAND - ECPv5.16.0//NONSGML v1.0//EN
CALSCALE:GREGORIAN
METHOD:PUBLISH
X-WR-CALNAME:KARAOKESBAND
X-ORIGINAL-URL:https://www.karaokesband.cat
X-WR-CALDESC:Eventos para KARAOKESBAND
BEGIN:VTIMEZONE
TZID:UTC
BEGIN:STANDARD
TZOFFSETFROM:+0000
TZOFFSETTO:+0000
TZNAME:UTC
DTSTART:20190101T000000
END:STANDARD
END:VTIMEZONE
BEGIN:VEVENT
DTSTART;VALUE=DATE:20190831
DTEND;VALUE=DATE:20190902
DTSTAMP:20260419T165441
CREATED:20190729T130256Z
LAST-MODIFIED:20190827T160447Z
UID:2742-1567224000-1567310399@www.karaokesband.cat
SUMMARY:Sant Celoni
DESCRIPTION:Sant Celoni serà una festa amb l’actuació de KARAOKES BAND!\nSant Celoni viu un any més la festa major i tornarà a comptar amb el concert de KARAOKES BAND. El dia 31 d’agost podràs pujar a cantar les teves cançons preferides a dalt d’un escenari espectacular. No t’ho pensis més i vine a mitjanit a cantar i ballar. A les 23h a la plaça de la biblioteca.\nEn el cartell d’aquesta festa trobaràs tota la informació de les activitats. No oblidis seguir repassant el nostre repertori i estudiar per fer la millor actuació! També pots xafardejar una mica per conèixer millor a l’equip o passar l’estona mirant vídeos. \nCanteu amb responsabilitat!
URL:https://www.karaokesband.cat/concert/sant-celoni/
LOCATION:Sant Celoni
END:VEVENT
END:VCALENDAR