BEGIN:VCALENDAR
VERSION:2.0
PRODID:-//KARAOKESBAND - ECPv5.16.0//NONSGML v1.0//EN
CALSCALE:GREGORIAN
METHOD:PUBLISH
X-WR-CALNAME:KARAOKESBAND
X-ORIGINAL-URL:https://www.karaokesband.cat
X-WR-CALDESC:Eventos para KARAOKESBAND
BEGIN:VTIMEZONE
TZID:UTC
BEGIN:STANDARD
TZOFFSETFROM:+0000
TZOFFSETTO:+0000
TZNAME:UTC
DTSTART:20190101T000000
END:STANDARD
END:VTIMEZONE
BEGIN:VEVENT
DTSTART;VALUE=DATE:20190623
DTEND;VALUE=DATE:20190625
DTSTAMP:20260419T201946
CREATED:20190506T083851Z
LAST-MODIFIED:20190506T083851Z
UID:2687-1561262400-1561348799@www.karaokesband.cat
SUMMARY:Sant Joan a Igualada
DESCRIPTION:El Casal Popular El Foment celebra el Sant Joan 19 amb l’actuació de KARAOKES BAND!\nIgualada viurà un Sant Joan amb el concert de KARAOKES BAND gràcies a l’empenta del Casal Popular El Foment. El dia 23 de juny podràs pujar a cantar les teves cançons preferides a dalt d’un escenari espectacular al mig de la rambla d’Igualada.\nEn el cartell d’aquesta festa trobaràs tota la informació de les activitats. No oblidis seguir repassant el nostre repertori i estudiar per fer la millor actuació! També pots xafardejar una mica per conèixer millor a l’equip o passar l’estona mirant vídeos. \nCanteu amb responsabilitat!
URL:https://www.karaokesband.cat/concert/sant-joan-a-igualada/
LOCATION:IGUALADA\, IGUALADA\, Barcelona\, España
ATTACH;FMTTYPE=image/jpeg:https://www.karaokesband.cat/wp-content/uploads/2017/05/KOB-GiraGo-LogoColor.jpg
END:VEVENT
END:VCALENDAR