BEGIN:VCALENDAR
VERSION:2.0
PRODID:-//KARAOKESBAND - ECPv5.16.0//NONSGML v1.0//EN
CALSCALE:GREGORIAN
METHOD:PUBLISH
X-WR-CALNAME:KARAOKESBAND
X-ORIGINAL-URL:https://www.karaokesband.cat
X-WR-CALDESC:Eventos para KARAOKESBAND
BEGIN:VTIMEZONE
TZID:UTC
BEGIN:STANDARD
TZOFFSETFROM:+0000
TZOFFSETTO:+0000
TZNAME:UTC
DTSTART:20180101T000000
END:STANDARD
END:VTIMEZONE
BEGIN:VEVENT
DTSTART;VALUE=DATE:20180620
DTEND;VALUE=DATE:20180622
DTSTAMP:20260419T202628
CREATED:20180411T081501Z
LAST-MODIFIED:20180411T081501Z
UID:2328-1529467200-1529553599@www.karaokesband.cat
SUMMARY:Sant Joan Camprodon 2018
DESCRIPTION:Camprodon es posa de gala per rebre a KARAOKES BAND el 20 de juny de 2018!\nLa població de Camprodon celebrará un inici de l’estiu i Sant Joan amb un concert de KaraokesBand el dimecres 20 de juny. Unes quantes fogueres\, unes quantes piules i moltes ganes de rebre la calor amb els habitants de Camprodon.\nEn breu penjarem més informació i tots els detalls d’aquest festa. De moment pots seguir repassant el nostre repertori i estudiar per fer la millor actuació! També pots xafardejar una mica per conèixer millor a l’equip o passar l’estona mirant vídeos.
URL:https://www.karaokesband.cat/concert/sant-joan-camprodon/
LOCATION:Camprodon
ATTACH;FMTTYPE=image/jpeg:https://www.karaokesband.cat/wp-content/uploads/2017/05/KOB-GiraGo-LogoColor.jpg
END:VEVENT
END:VCALENDAR