BEGIN:VCALENDAR
VERSION:2.0
PRODID:-//KARAOKESBAND - ECPv5.16.0//NONSGML v1.0//EN
CALSCALE:GREGORIAN
METHOD:PUBLISH
X-WR-CALNAME:KARAOKESBAND
X-ORIGINAL-URL:https://www.karaokesband.cat
X-WR-CALDESC:Eventos para KARAOKESBAND
BEGIN:VTIMEZONE
TZID:UTC
BEGIN:STANDARD
TZOFFSETFROM:+0000
TZOFFSETTO:+0000
TZNAME:UTC
DTSTART:20230101T000000
END:STANDARD
END:VTIMEZONE
BEGIN:VEVENT
DTSTART;VALUE=DATE:20230331
DTEND;VALUE=DATE:20230402
DTSTAMP:20260420T110843
CREATED:20230318T095736Z
LAST-MODIFIED:20230318T095736Z
UID:3203-1680235200-1680321599@www.karaokesband.cat
SUMMARY:THE CONTEST - Festa d'escola
DESCRIPTION:
URL:https://www.karaokesband.cat/concert/the-contest-festa-descola/
END:VEVENT
END:VCALENDAR