BEGIN:VCALENDAR
VERSION:2.0
PRODID:-//KARAOKESBAND - ECPv5.16.0//NONSGML v1.0//EN
CALSCALE:GREGORIAN
METHOD:PUBLISH
X-WR-CALNAME:KARAOKESBAND
X-ORIGINAL-URL:https://www.karaokesband.cat
X-WR-CALDESC:Eventos para KARAOKESBAND
BEGIN:VTIMEZONE
TZID:UTC
BEGIN:STANDARD
TZOFFSETFROM:+0000
TZOFFSETTO:+0000
TZNAME:UTC
DTSTART:20190101T000000
END:STANDARD
END:VTIMEZONE
BEGIN:VEVENT
DTSTART;VALUE=DATE:20191231
DTEND;VALUE=DATE:20200102
DTSTAMP:20260419T135226
CREATED:20191029T061322Z
LAST-MODIFIED:20191029T061322Z
UID:2779-1577764800-1577851199@www.karaokesband.cat
SUMMARY:Vilanova del Camí
DESCRIPTION:Vilanova del Camí viurà el millor cap d’any amb l’actuació de KARAOKES BAND!\nVilanova del Camí celebrarà un final d’any 2019 amb el concert de KARAOKES BAND el dia 31 de desembre. Podràs pujar a cantar les teves cançons preferides a dalt d’un escenari espectacular. No t’ho pensis més i vine a mitjanit a cantar i ballar.\nEn el cartell d’aquesta festa trobaràs tota la informació de les activitats. No oblidis seguir repassant el nostre repertori i estudiar per fer la millor actuació! També pots xafardejar una mica per conèixer millor a l’equip o passar l’estona mirant vídeos. \nCanteu amb responsabilitat!
URL:https://www.karaokesband.cat/concert/vilanova-del-cami/
LOCATION:Vilanova del Camí
ATTACH;FMTTYPE=image/jpeg:https://www.karaokesband.cat/wp-content/uploads/2017/05/KOB-GiraGo-LogoColor.jpg
END:VEVENT
END:VCALENDAR